BEGIN:VCALENDAR
VERSION:2.0
PRODID:-//Catholic Theological Union - ECPv6.15.19//NONSGML v1.0//EN
CALSCALE:GREGORIAN
METHOD:PUBLISH
X-WR-CALNAME:Catholic Theological Union
X-ORIGINAL-URL:https://ctu.edu
X-WR-CALDESC:Events for Catholic Theological Union
REFRESH-INTERVAL;VALUE=DURATION:PT1H
X-Robots-Tag:noindex
X-PUBLISHED-TTL:PT1H
BEGIN:VTIMEZONE
TZID:America/Chicago
BEGIN:DAYLIGHT
TZOFFSETFROM:-0600
TZOFFSETTO:-0500
TZNAME:CDT
DTSTART:20220313T080000
END:DAYLIGHT
BEGIN:STANDARD
TZOFFSETFROM:-0500
TZOFFSETTO:-0600
TZNAME:CST
DTSTART:20221106T070000
END:STANDARD
BEGIN:DAYLIGHT
TZOFFSETFROM:-0600
TZOFFSETTO:-0500
TZNAME:CDT
DTSTART:20230312T080000
END:DAYLIGHT
BEGIN:STANDARD
TZOFFSETFROM:-0500
TZOFFSETTO:-0600
TZNAME:CST
DTSTART:20231105T070000
END:STANDARD
BEGIN:DAYLIGHT
TZOFFSETFROM:-0600
TZOFFSETTO:-0500
TZNAME:CDT
DTSTART:20240310T080000
END:DAYLIGHT
BEGIN:STANDARD
TZOFFSETFROM:-0500
TZOFFSETTO:-0600
TZNAME:CST
DTSTART:20241103T070000
END:STANDARD
BEGIN:DAYLIGHT
TZOFFSETFROM:-0600
TZOFFSETTO:-0500
TZNAME:CDT
DTSTART:20250309T080000
END:DAYLIGHT
BEGIN:STANDARD
TZOFFSETFROM:-0500
TZOFFSETTO:-0600
TZNAME:CST
DTSTART:20251102T070000
END:STANDARD
BEGIN:DAYLIGHT
TZOFFSETFROM:-0600
TZOFFSETTO:-0500
TZNAME:CDT
DTSTART:20260308T080000
END:DAYLIGHT
BEGIN:STANDARD
TZOFFSETFROM:-0500
TZOFFSETTO:-0600
TZNAME:CST
DTSTART:20261101T070000
END:STANDARD
END:VTIMEZONE
BEGIN:VEVENT
DTSTART;TZID=America/Chicago:20251108T173000
DTEND;TZID=America/Chicago:20251108T220000
DTSTAMP:20260421T050234
CREATED:20250924T175243Z
LAST-MODIFIED:20251106T200001Z
UID:25807953-1762623000-1762639200@ctu.edu
SUMMARY:Celebrating the 31st anniversary of the Romero Scholars Program
DESCRIPTION:November 8\, 2025\nCTU will celebrate the 31st anniversary of the Romero Scholars Program on Saturday evening\, November 8\, 2025. Please join us for a festive celebration which will include a fabulous Latin dinner and music. \nBy Sponsoring a table at this year’s Corazon de Romero event\, you’re not only supporting our Romero Scholars\, but also enjoying the benefits of community and engagement at this year’s event. Sponsorship levels and benefits are as follows: \n\nSan Oscar Arnulfo Romero: Table for 8 + 6 Raffle tickets\nNuestra Señora de Guadalupe: 6 Dinner Tickets + 6 Raffle tickets\nSan Martin de Porres: 4 Dinner Tickets + 6 Raffle tickets\nSanta Rosa de Lima: 2 Dinner Tickets + 6 Raffle tickets\nSanto Toribio Romo Gonzalez: 2 Dinner Tickets\n\nSorry\, this event is full and can’t accept new registrations. \nDownload Sponsorship Form \n  \n \n\n5:30 pm          Reception\n6:30 pm          Dinner & Program\n8:00 pm          Dancing\n  \n  \n  \n  \n  \nFor thirty years\, CTU’s Oscar Romero Scholars has been preparing Hispanic/Latin@ men and women for professional ministry and as leaders among the Hispanic community in the Archdiocese of Chicago. The program offers them a full tuition scholarship for a graduate degree in theology and a formation program that seeks to have them inspired by the life and ministry of St. Oscar Romero. For more than half of that time\, the scholars have hosted an annual event inviting family\, friends\, and other supporters to help raise funds for these scholarships. \nThis year\, the Romero program has doubled the number of scholars in the program by offering for the first time in our history one of our degrees in Spanish. \nLocation\nCatholic Theological Union\n5416 South Cornell Avenue\nChicago\, Illinois 60615 \n  \nPlease call 773.371.5415 for more information.
URL:https://ctu.edu/event/romero25/
CATEGORIES:Romero Program
ATTACH;FMTTYPE=image/jpeg:https://ctu.edu/wp-content/uploads/2023/10/romero-logo-final-01-no-text.jpg
END:VEVENT
BEGIN:VEVENT
DTSTART;TZID=America/Chicago:20241109T173000
DTEND;TZID=America/Chicago:20241109T220000
DTSTAMP:20260421T050234
CREATED:20240925T122649Z
LAST-MODIFIED:20241107T215209Z
UID:25803765-1731173400-1731189600@ctu.edu
SUMMARY:Celebrating the 30th anniversary of the Romero Scholars Program
DESCRIPTION:November 9\, 2024\n\n\n\n\n  \nCTU will celebrate the 30th anniversary of the Romero Scholars Program on Saturday evening\, November 9\, 2024. Please join us for a festive celebration which will include a fabulous Latin dinner and music.\n  \n\n\n\n \n\n\n\n\n\n\n\n\n  \n  \n\n\n\n\n5:30 pm          Reception\n\n\n\n\n\n\n\n\n\n\n6:30 pm          Dinner & Program\n\n\n\n\n\n\n8:00 pm          Dancing\n\n\n\n\n  \n  \n  \n  \n  \n\n\n\n\n\nFor thirty years\, CTU’s Oscar Romero Scholars has been preparing Hispanic/Latin@ men and women for professional ministry and as leaders among the Hispanic community in the Archdiocese of Chicago. The program offers them a full tuition scholarship for a graduate degree in theology and a formation program that seeks to have them inspired by the life and ministry of St. Oscar Romero. For more than half of that time\, the scholars have hosted an annual event inviting family\, friends\, and other supporters to help raise funds for these scholarships. \n\n\n\n\n\n  \n\n\n\n\n\nThis year\, the Romero program has doubled the number of scholars in the program by offering for the first time in our history one of our degrees in Spanish. \n\n\n  \n  \nLocation\nCatholic Theological Union\n5416 South Cornell Avenue\nChicago\, Illinois 60615 \n  \nPlease call 773.371.5415 for more information. \n\n\n\n 
URL:https://ctu.edu/event/celebrating-the-30th-anniversary-of-the-romero-scholars-program/
CATEGORIES:Romero Program
ATTACH;FMTTYPE=image/jpeg:https://ctu.edu/wp-content/uploads/2023/10/romero-logo-final-01-no-text.jpg
END:VEVENT
BEGIN:VEVENT
DTSTART;TZID=America/Chicago:20231104T173000
DTEND;TZID=America/Chicago:20231104T220000
DTSTAMP:20260421T050234
CREATED:20231022T100237Z
LAST-MODIFIED:20231023T202429Z
UID:24851815-1699119000-1699135200@ctu.edu
SUMMARY:Join us for a festive evening celebrating CTU’s Óscar Romero Scholarship Program
DESCRIPTION:  \n \n  \nCTU will celebrate the Romero Scholars Program on Saturday evening\, November 4\, 2023. Please join us for a festive celebration which will include a fabulous Latin dinner and music. \n\n5:30 pm          Reception\n6:30 pm          Dinner & Program\n8:00 pm          Dancing\n\nFor more than twenty-five years\, CTU’s Óscar Romero Scholars have hosted this annual celebration which highlights and supports the scholarship program. The Romero Scholarship offers Hispanic and Latino/a lay men and women a full-tuition scholarship for a professional graduate degree that prepares them to minister in the Archdiocese of Chicago. This event is a wonderful example of our community coming together to support the next generation of Hispanic and Latino/a Catholic leaders for the Church. \n\n\n\n\nWe will take some time during our program to remember and to recognize the late Bishop John R. Manz who passed away earlier this year. \n  \nRSVP by October 27. \n  \nLocation\nCatholic Theological Union\n5416 South Cornell Avenue\nChicago\, Illinois 60615 \n  \nPlease call 773.371.5415 for more information.
URL:https://ctu.edu/event/romero-program/
CATEGORIES:Romero Program
ATTACH;FMTTYPE=image/jpeg:https://ctu.edu/wp-content/uploads/2023/10/romero-logo-final-01-no-text.jpg
END:VEVENT
END:VCALENDAR