BEGIN:VCALENDAR
VERSION:2.0
PRODID:-//Catholic Theological Union - ECPv6.15.19//NONSGML v1.0//EN
CALSCALE:GREGORIAN
METHOD:PUBLISH
X-WR-CALNAME:Catholic Theological Union
X-ORIGINAL-URL:https://ctu.edu
X-WR-CALDESC:Events for Catholic Theological Union
REFRESH-INTERVAL;VALUE=DURATION:PT1H
X-Robots-Tag:noindex
X-PUBLISHED-TTL:PT1H
BEGIN:VTIMEZONE
TZID:UTC
BEGIN:STANDARD
TZOFFSETFROM:+0000
TZOFFSETTO:+0000
TZNAME:UTC
DTSTART:20250101T000000
END:STANDARD
END:VTIMEZONE
BEGIN:VTIMEZONE
TZID:America/New_York
BEGIN:DAYLIGHT
TZOFFSETFROM:-0500
TZOFFSETTO:-0400
TZNAME:EDT
DTSTART:20250309T070000
END:DAYLIGHT
BEGIN:STANDARD
TZOFFSETFROM:-0400
TZOFFSETTO:-0500
TZNAME:EST
DTSTART:20251102T060000
END:STANDARD
BEGIN:DAYLIGHT
TZOFFSETFROM:-0500
TZOFFSETTO:-0400
TZNAME:EDT
DTSTART:20260308T070000
END:DAYLIGHT
BEGIN:STANDARD
TZOFFSETFROM:-0400
TZOFFSETTO:-0500
TZNAME:EST
DTSTART:20261101T060000
END:STANDARD
BEGIN:DAYLIGHT
TZOFFSETFROM:-0500
TZOFFSETTO:-0400
TZNAME:EDT
DTSTART:20270314T070000
END:DAYLIGHT
BEGIN:STANDARD
TZOFFSETFROM:-0400
TZOFFSETTO:-0500
TZNAME:EST
DTSTART:20271107T060000
END:STANDARD
END:VTIMEZONE
BEGIN:VEVENT
DTSTART;TZID=UTC:20260429T170000
DTEND;TZID=UTC:20260429T223000
DTSTAMP:20260423T045949
CREATED:20230824T001940Z
LAST-MODIFIED:20260107T161516Z
UID:24852611-1777482000-1777501800@ctu.edu
SUMMARY:Peacemakers 2026
DESCRIPTION:Peacemakers 2026\n\n\n\n\n\n\n\n\n\n\n\n\n\n\n\n\nThe peacemakers\, those who put an end to violence\, who lay down the sword\, who work for harmonious relationships\, who break the patterns of hatred\, who love even their enemies\, will be called ‘children of God\,’ the ultimate blessing. These ‘children of God\,’ be they Jews\, Christians\, and Muslims in the Middle East\, or we gathered here\, are mandated by our great religious traditions to be peacemakers.
URL:https://ctu.edu/event/peacemakers-2026/
CATEGORIES:CTU
ATTACH;FMTTYPE=image/jpeg:https://ctu.edu/wp-content/uploads/2023/08/logo-blue-background.jpg
END:VEVENT
BEGIN:VEVENT
DTSTART;VALUE=DATE:20261006
DTEND;VALUE=DATE:20261017
DTSTAMP:20260423T045949
CREATED:20260225T185719Z
LAST-MODIFIED:20260225T185719Z
UID:25809155-1791244800-1792195199@ctu.edu
SUMMARY:Join The Catholic Theological Union on an Interfaith Pilgrimage to Spain
DESCRIPTION:Step into the crossroads of faith\, culture\, and history on an extraordinary interfaith pilgrimage through Spain with Catholic Theological Union. Journey from the vibrant streets of Barcelona to the ancient cities of Andalusia and the spiritual heart of Madrid\, tracing centuries of Jewish\, Christian\, and Muslim encounter. Pray and reflect at Montserrat before the Black Madonna\, marvel at the soaring beauty of La Sagrada Familia\, and walk through sacred spaces shaped by coexistence and conflict—from the Mezquita-Cathedral of Córdoba to the synagogues of Toledo and the grandeur of the Alhambra in Granada. Experience Shabbat in Sevilla\, celebrate Mass along the way\, and engage deeply with Spain’s rich religious heritage through shared meals\, reflection\, and conversation.
URL:https://ctu.edu/event/join-the-catholic-theological-union-on-an-interfaith-pilgrimage-to-spain/
CATEGORIES:CTU,Travel
ATTACH;FMTTYPE=image/avif:https://ctu.edu/wp-content/uploads/2026/02/4448cb_fe889c561155481a826c0f98b1ed9b6cmv2.avif
END:VEVENT
END:VCALENDAR